Workbook

Sheet projekt planu 2024
D1: Załącznik Nr 4 do
D2: Uchwały Rady Gminy Malbork
D3: Nr L/377/2023 z dnia 28.12.2023r.
A5: Plan przychodów i kosztów na 2024 rok
A6: Gminnego Zakładu Gospodarki Komunalnej i Mieszkaniowej w Malborku
A8: Dział | B8: Rozdział | C8: Paragraf | D8: Treść | E8: Plan
D9: Stan środków obrotowych na 01.01.2024 r. | E9: 77600
D10: Przychody w ciągu 2024 roku | E10: =E11+E16+E20 -> 2155600 | G10: =E10 -> 2155600 | H10: =G10-E10 -> 0
A11: 400 | D11: Wytwarzanie i zaopatrywanie w energię elektryczną, gaz i wodę | E11: =E12+E14 -> 487000
B12: 40001 | D12: Dostarczanie ciepła | E12: =SUM(E13:E13) -> 331000
C13: 0830 | D13: Wpływy z usług | E13: 331000
B14: 40002 | D14: Dostarczanie wody | E14: =SUM(E15:E15) -> 156000
C15: 0830 | D15: Wpływy z usług | E15: 156000
A16: 700 | D16: Gospodarka mieszkaniowa | E16: =E17 -> 180000
B17: 70007 | D17: Gospodarowanie mieszkaniowym zasobem gminy | E17: =SUM(E18+E19) -> 180000
C18: 0750 | D18: Wpływy z najmu i dzierżawy składników majątkowych Skarbu Państwa, jednostek samorządu terytorialnego lub innych jednostek zaliczanych do sektora finansów publicznych oraz innych umów o podobnym charakterze | E18: 180000
C19: 6210 | D19: Dotacja celowa z budżetu na finansowanie lub dofinansowanie kosztów realizacji inwestycji i zakupów inwestycyjnych samorządowych zakładów budżetowych
A20: 900 | D20: Gospodarka komunalna i ochrona środowiska | E20: =E21+E24+E26 -> 1488600
B21: 90001 | D21: Gospodarka ściekowa i ochrona wód | E21: =E22+E23 -> 643600
C22: 0830 | D22: Wpływy z usług | E22: 420000
C23: 2650 | D23: Dotacja przedmiotowa z budżetu dla samorządowego zakładu budżetowego | E23: 223600
B24: 90017 | D24: Zakłady Gospodarki komunalnej | E24: =E25 -> 15000
C25: 0970 | D25: Wpływy z różnych dochodów | E25: 15000
B26: 90095 | D26: Pozostała działalność | E26: =E27+E28 -> 830000
C27: 0750 | D27: Wpływy z najmu i dzierżawy składników majątkowych Skarbu Państwa, jednostek samorządu terytorialnego lub innych jednostek zaliczanych do sektora finansów publicznych oraz innych umów o podobnym charakterze | E27: 270000
C28: 0830 | D28: Wpływy z usług | E28: 560000
D29: OGÓŁEM PRZYCHODY | E29: =E9+E10 -> 2233200
D30: Koszty w ciągu 2024 roku | E30: =E31+E46+E55 -> 2155600 | G30: =SUM(E30-E10) -> 0
A31: 400 | D31: Wytwarzanie i zaopatrywanie w energię elektryczną, gaz i wodę | E31: =SUM(E32+E39) -> 264150
B32: 40001 | D32: Dostarczanie ciepła | E32: =SUM(E33:E38) -> 154000
C33: 4210 | D33: Zakup materiałów i wyposażenia | E33: ='analiza rodzajowa kosztów 2024 '!E30 -> 140000
C34: 4260 | D34: Zakup energii | E34: ='analiza rodzajowa kosztów 2024 '!E31 -> 2000
C35: 4270 | D35: Zakup usług remontowych | E35: ='analiza rodzajowa kosztów 2024 '!E32 -> 3000
C36: 4300 | D36: Zakup usług pozostałych | E36: ='analiza rodzajowa kosztów 2024 '!E33 -> 3000
C37: 4390 | D37: Zakup usług obejmujących wykonanie ekspertyz, analiz i opinii | E37: ='analiza rodzajowa kosztów 2024 '!E34 -> 4000
C38: 4430 | D38: Różne opłaty i składki | E38: ='analiza rodzajowa kosztów 2024 '!E35 -> 2000
B39: 40002 | D39: Dostarczanie wody | E39: =SUM(E40:E45) -> 110150
C40: 4210 | D40: Zakup materiałów i wyposażenia | E40: ='analiza rodzajowa kosztów 2024 '!E37 -> 7000
C41: 4260 | D41: Zakup energii | E41: ='analiza rodzajowa kosztów 2024 '!E38 -> 77000
C42: 4270 | D42: Zakup usług remontowych | E42: ='analiza rodzajowa kosztów 2024 '!E41 -> 5000
...

Sheet analiza rodzajowa kosztów 2024 
A1: PROJEKT
A2: Analiza planu kosztów na 2024 rok
A3: Gminnego Zakładu Gospodarki Komunalnej i Mieszkaniowej w Malborku
A5: Dział | B5: Rozdział | C5: Paragraf | D5: Treść | E5: planowane koszty | F5: pozycje kosztów | G5: wartość
A28: 400 | D28: Wytwarzanie i zaopatrywanie w energię elektryczną, gaz i wodę | E28: =SUM(E29+E36) -> 264150 | G28: =SUM(G29+G36) -> 264150
B29: 40001 | D29: Dostarczanie ciepła | E29: =SUM(E30:E35) -> 154000 | G29: =SUM(G30:G35) -> 154000
C30: 4210 | D30: Zakup materiałów i wyposażenia | E30: =SUM(G30) -> 140000 | F30: węgiel 70t x 2000,00 | G30: =70*2000 -> 140000
C31: 4260 | D31: Zakup energii | E31: =SUM(G31) -> 2000 | F31: energia elektryczna | G31: 2000
C32: 4270 | D32: Zakup usług remontowych | E32: =G32 -> 3000 | F32: usługi remontowe | G32: 3000
C33: 4300 | D33: Zakup usług pozostałych | E33: =SUM(G33) -> 3000 | F33: usługi pozostałe | G33: 3000
C34: 4390 | D34: Zakup usług obejmujących wykonanie ekspertyz, analiz i opinii | E34: =SUM(G34) -> 4000 | F34: przeglądy kotłowni | G34: 4000
C35: 4430 | D35: Różne opłaty i składki | E35: =SUM(G35) -> 2000 | F35: opłaty za emisję spalin | G35: 2000
B36: 40002 | D36: Dostarczanie wody | E36: =SUM(E37:E44) -> 110150 | G36: =SUM(G37:G44) -> 110150
C37: 4210 | D37: Zakup materiałów i wyposażenia | E37: =G37 -> 7000 | F37: materiały remontowe | G37: 7000
C38: 4260 | D38: Zakup energii | E38: =G38+G39 -> 77000 | F38: zakup wody | G38: 73000
F39: energia elektryczna | G39: 4000
C40: 4300 | D40: Zakup usług pozostałych | E40: =G40 -> 4000 | F40: usługi pozostałe | G40: 4000
C41: 4270 | D41: Zakup usług remontowych | E41: =G41 -> 5000 | F41: usługi remontowe | G41: 5000
C42: 4390 | D42: Zakup usług obejmujących wykonanie ekspertyz, analiz i opinii | E42: =G42+G43 -> 10000 | F42: badania okresowe wody SUW | G42: 9000
F43: przeglądy techniczne | G43: 1000
C44: 4430 | D44: Różne opłaty i składki | E44: =G44 -> 7150 | F44: opłata za pobór wód SUW | G44: 7150
A45: 700 | D45: Gospodarka mieszkaniowa | E45: =E46 -> 84000 | G45: =G46 -> 84000
B46: 70007 | D46: Gospodarowanie mieszkaniowym zasobem gminy | E46: =SUM(E47:E54) -> 84000 | G46: =SUM(G47:G55) -> 84000
C47: 4210 | D47: Zakup materiałów i wyposażenia | E47: =G47 -> 40000 | F47: materiały remont., malarskie, budowlane | G47: 40000
C48: 4260 | D48: Zakup energii | E48: =G48 -> 1000 | F48: energia elektryczna | G48: 1000
C49: 4270 | D49: Zakup usług remontowych | E49: =G49 -> 20000 | F49: usługi remontowe | G49: 20000
C50: 4300 | D50: Zakup usług pozostałych | E50: =G50 -> 4000 | F50: usługi transportowe, pozostałe | G50: 4000
C51: 4390 | D51: Zakup usług obejmujących wykonanie ekspertyz, analiz i opinii | E51: =G51+G52+G53 -> 10000 | F51: przeglądy inst.elektrycznych | G51: 3000
F52: przeglądy kominiarskie | G52: 4000
F53: przeglądy budowlane | G53: 3000
C54: 4430 | D54: Różne opłaty i składki | E54: =G54 -> 9000 | F54: koszty zarządu wspólnotami mieszkan. | G54: 9000
C55: 6070 | D55: Wydatki inwestycyjne samorządowych zakładów budżetowych | E55: =G55 -> 0 | F55: modernizacja lokalu mieszkalnego w Lasowicach Wlk.nr 120J
A56: 900 | D56: Gospodarka komunalna i ochrona środowiska | E56: =E57+E67+E91 -> 1807450 | G56: =G57+G67+G91 -> 1807450
B57: 90001 | D57: Gospodarka ściekowa i ochrona wód | E57: =SUM(E58:E66) -> 464000 | G57: =SUM(G58:G66) -> 464000
C58: 4210 | D58: Zakup materiałów i wyposażenia | E58: =G58 -> 5000 | F58: materiały remontowe | G58: 5000
C59: 4260 | D59: Zakup energii | E59: =G59 -> 50000 | F59: energia elektryczna | G59: 50000
C60: 4270 | D60: Zakup usług remontowych | E60: =G60 -> 5000 | F60: usługi remontowe | G60: 5000
C61: 4300 | D61: Zakup usług pozostałych | E61: =G61+G62+G63 -> 392000 | F61: odprowadzanie ścieków do oczyszczalni 40.000m3 x 5,5 | G61: =40000*5.5 -> 220000
F62: odbiór ścieków z szamb 17.222 m3 | G62: 170000
F63: usługi transpor., roboty ziemne | G63: 2000
...
