Workbook

Sheet projekt planu 2024
D1: Załącznik Nr 4 do
D2: Uchwały Rady Gminy Malbork
D3: Nr L/377/2023 z dnia 28.12.2023r.
A5: Plan przychodów i kosztów na 2024 rok
A6: Gminnego Zakładu Gospodarki Komunalnej i Mieszkaniowej w Malborku
A8: Dział | B8: Rozdział | C8: Paragraf | D8: Treść | E8: Plan
D9: Stan środków obrotowych na 01.01.2024 r. | E9: 77600
D10: Przychody w ciągu 2024 roku | E10: =E11+E16+E20 -> 2155600 | G10: =E10 -> 2155600 | H10: =G10-E10 -> 0
A11: 400 | D11: Wytwarzanie i zaopatrywanie w energię elektryczną, gaz i wodę | E11: =E12+E14 -> 487000
B12: 40001 | D12: Dostarczanie ciepła | E12: =SUM(E13:E13) -> 331000
C13: 0830 | D13: Wpływy z usług | E13: 331000
B14: 40002 | D14: Dostarczanie wody | E14: =SUM(E15:E15) -> 156000
C15: 0830 | D15: Wpływy z usług | E15: 156000
A16: 700 | D16: Gospodarka mieszkaniowa | E16: =E17 -> 180000
B17: 70007 | D17: Gospodarowanie mieszkaniowym zasobem gminy | E17: =SUM(E18+E19) -> 180000
C18: 0750 | D18: Wpływy z najmu i dzierżawy składników majątkowych Skarbu Państwa, jednostek samorządu terytorialnego lub innych jednostek zaliczanych do sektora finansów publicznych oraz innych umów o podobnym charakterze | E18: 180000
C19: 6210 | D19: Dotacja celowa z budżetu na finansowanie lub dofinansowanie kosztów realizacji inwestycji i zakupów inwestycyjnych samorządowych zakładów budżetowych
A20: 900 | D20: Gospodarka komunalna i ochrona środowiska | E20: =E21+E24+E26 -> 1488600
B21: 90001 | D21: Gospodarka ściekowa i ochrona wód | E21: =E22+E23 -> 643600
C22: 0830 | D22: Wpływy z usług | E22: 420000
C23: 2650 | D23: Dotacja przedmiotowa z budżetu dla samorządowego zakładu budżetowego | E23: 223600
B24: 90017 | D24: Zakłady Gospodarki komunalnej | E24: =E25 -> 15000
C25: 0970 | D25: Wpływy z różnych dochodów | E25: 15000
B26: 90095 | D26: Pozostała działalność | E26: =E27+E28 -> 830000
C27: 0750 | D27: Wpływy z najmu i dzierżawy składników majątkowych Skarbu Państwa, jednostek samorządu terytorialnego lub innych jednostek zaliczanych do sektora finansów publicznych oraz innych umów o podobnym charakterze | E27: 270000
C28: 0830 | D28: Wpływy z usług | E28: 560000
D29: OGÓŁEM PRZYCHODY | E29: =E9+E10 -> 2233200
D30: Koszty w ciągu 2024 roku | E30: =E31+E46+E55 -> 2155600 | G30: =SUM(E30-E10) -> 0
A31: 400 | D31: Wytwarzanie i zaopatrywanie w energię elektryczną, gaz i wodę | E31: =SUM(E32+E39) -> 264150
B32: 40001 | D32: Dostarczanie ciepła | E32: =SUM(E33:E38) -> 154000
C33: 4210 | D33: Zakup materiałów i wyposażenia | E33: ='analiza rodzajowa kosztów 2024 '!E30 -> 140000
C34: 4260 | D34: Zakup energii | E34: ='analiza rodzajowa kosztów 2024 '!E31 -> 2000
C35: 4270 | D35: Zakup usług remontowych | E35: ='analiza rodzajowa kosztów 2024 '!E32 -> 3000
C36: 4300 | D36: Zakup usług pozostałych | E36: ='analiza rodzajowa kosztów 2024 '!E33 -> 3000
C37: 4390 | D37: Zakup usług obejmujących wykonanie ekspertyz, analiz i opinii | E37: ='analiza rodzajowa kosztów 2024 '!E34 -> 4000
C38: 4430 | D38: Różne opłaty i składki | E38: ='analiza rodzajowa kosztów 2024 '!E35 -> 2000
B39: 40002 | D39: Dostarczanie wody | E39: =SUM(E40:E45) -> 110150
C40: 4210 | D40: Zakup materiałów i wyposażenia | E40: ='analiza rodzajowa kosztów 2024 '!E37 -> 7000
C41: 4260 | D41: Zakup energii | E41: ='analiza rodzajowa kosztów 2024 '!E38 -> 77000
C42: 4270 | D42: Zakup usług remontowych | E42: ='analiza rodzajowa kosztów 2024 '!E41 -> 5000
C43: 4300 | D43: Zakup usług pozostałych | E43: ='analiza rodzajowa kosztów 2024 '!E40 -> 4000
C44: 4390 | D44: Zakup usług obejmujących wykonanie ekspertyz, analiz i opinii | E44: ='analiza rodzajowa kosztów 2024 '!E42 -> 10000
C45: 4430 | D45: Różne opłaty i składki | E45: ='analiza rodzajowa kosztów 2024 '!E44 -> 7150
A46: 700 | D46: Gospodarka mieszkaniowa | E46: =E47 -> 84000
B47: 70007 | D47: Gospodarowanie mieszkaniowym zasobem gminy | E47: =SUM(E48:E54) -> 84000
C48: 4210 | D48: Zakup materiałów i wyposażenia | E48: ='analiza rodzajowa kosztów 2024 '!E47 -> 40000
C49: 4260 | D49: Zakup energii | E49: ='analiza rodzajowa kosztów 2024 '!E48 -> 1000
C50: 4270 | D50: Zakup usług remontowych | E50: ='analiza rodzajowa kosztów 2024 '!E49 -> 20000
C51: 4300 | D51: Zakup usług pozostałych | E51: ='analiza rodzajowa kosztów 2024 '!E50 -> 4000
C52: 4390 | D52: Zakup usług obejmujących wykonanie ekspertyz, analiz i opinii | E52: ='analiza rodzajowa kosztów 2024 '!E51 -> 10000
C53: 4430 | D53: Różne opłaty i składki | E53: ='analiza rodzajowa kosztów 2024 '!E54 -> 9000
C54: 6070 | D54: Wydatki inwestycyjne samorządowych zakładów budżetowych
A55: 900 | D55: Gospodarka komunalna i ochrona środowiska | E55: =E56+E63+E81 -> 1807450
B56: 90001 | D56: Gospodarka ściekowa i ochrona wód | E56: =SUM(E57:E62) -> 464000
C57: 4210 | D57: Zakup materiałów i wyposażenia | E57: ='analiza rodzajowa kosztów 2024 '!E58 -> 5000
C58: 4260 | D58: Zakup energii | E58: ='analiza rodzajowa kosztów 2024 '!E59 -> 50000
C59: 4270 | D59: Zakup usług remontowych | E59: ='analiza rodzajowa kosztów 2024 '!E60 -> 5000
C60: 4300 | D60: Zakup usług pozostałych | E60: 392000
C61: 4390 | D61: Zakup usług obejmujących wykonanie ekspertyz, analiz i opinii | E61: ='analiza rodzajowa kosztów 2024 '!E64 -> 7000
C62: 4430 | D62: Różne opłaty i składki | E62: ='analiza rodzajowa kosztów 2024 '!E66 -> 5000
B63: 90017 | D63: Zakłady Gospodarki komunalnej | E63: =SUM(E64:E80) -> 1128450
C64: 3020 | D64: Wydatki osobowe niezaliczone do wynagrodzeń | E64: ='analiza rodzajowa kosztów 2024 '!E68 -> 12000 | G64: =E65+E66+E67+E68 -> 970100 | H64: =SUM(G64*0.5) -> 485050
C65: 4010 | D65: Wynagrodzenia osobowe pracowników | E65: ='analiza rodzajowa kosztów 2024 '!E69 -> 750000
C66: 4040 | D66: Dodatkowe wynagrodzenia roczne | E66: ='analiza rodzajowa kosztów 2024 '!E70 -> 62000
C67: 4110 | D67: Składki na ubezpieczenia społeczne | E67: ='analiza rodzajowa kosztów 2024 '!E71 -> 140000
C68: 4120 | D68: Składki na Fundusz Pracy oraz Fundusz Solidarnościowy | E68: ='analiza rodzajowa kosztów 2024 '!E72 -> 18100
C69: 4170 | D69: Umowa zlecenia | E69: ='analiza rodzajowa kosztów 2024 '!E73 -> 5000
C70: 4210 | D70: Zakup materiałów i wyposażenia | E70: ='analiza rodzajowa kosztów 2024 '!E74 -> 37000
C71: 4270 | D71: Zakup usług remontowych | E71: ='analiza rodzajowa kosztów 2024 '!E76 -> 4000
C72: 4280 | D72: Zakup usług zdrowotnych | E72: ='analiza rodzajowa kosztów 2024 '!E77 -> 1000
C73: 4300 | D73: Zakup usług pozostałych | E73: ='analiza rodzajowa kosztów 2024 '!E78 -> 29850
C74: 4360 | D74: Opłaty z tytułu zakupu usług telekomunikacyjnych | E74: ='analiza rodzajowa kosztów 2024 '!E83 -> 3500
C75: 4410 | D75: Podróże służbowe krajowe | E75: ='analiza rodzajowa kosztów 2024 '!E85 -> 5000
C76: 4430 | D76: Różne opłaty i składki | E76: ='analiza rodzajowa kosztów 2024 '!E86 -> 10000
C77: 4440 | D77: Odpisy na zakładowy fundusz świadczeń socjalnych | E77: ='analiza rodzajowa kosztów 2024 '!E87 -> 23000
C78: 4610 | D78: Koszty postępowania sądowego i prokuratorskiego | E78: ='analiza rodzajowa kosztów 2024 '!E88 -> 15000
C79: 4700 | D79: Szkolenia pracowników niebędących członkami korpusu służby cywilnej | E79: ='analiza rodzajowa kosztów 2024 '!E89 -> 2000
C80: 4710 | D80: Wpłaty na PPK finansowane przez podmiot zatrudniający | E80: ='analiza rodzajowa kosztów 2024 '!E90 -> 11000
B81: 90095 | D81: Pozostała działalność | E81: =SUM(E82:E88) -> 215000
C82: 4210 | D82: Zakup materiałów i wyposażenia | E82: ='analiza rodzajowa kosztów 2024 '!E92 -> 98000
C83: 4260 | D83: Zakup energii | E83: ='analiza rodzajowa kosztów 2024 '!E95 -> 31000
C84: 4270 | D84: Zakup usług remontowych | E84: ='analiza rodzajowa kosztów 2024 '!E97 -> 2000
C85: 4300 | D85: Zakup usług pozostałych | E85: ='analiza rodzajowa kosztów 2024 '!E98 -> 49500
C86: 4390 | D86: Zakup usług obejmujących wykonanie ekspertyz, analiz i opinii | E86: ='analiza rodzajowa kosztów 2024 '!E101 -> 3000
C87: 4430 | D87: Różne opłaty i składki | E87: ='analiza rodzajowa kosztów 2024 '!E102 -> 1500
C88: 4480 | D88: Podatek od nieruchomości | E88: ='analiza rodzajowa kosztów 2024 '!E103 -> 30000
D89: Stan środków obrotowych na koniec roku 2024 | E89: 77600 | G89: =SUM(E89-E9) -> 0
D90: OGÓŁEM KOSZTY | E90: =E30+E89 -> 2233200

Sheet analiza rodzajowa kosztów 2024 
A1: PROJEKT
A2: Analiza planu kosztów na 2024 rok
A3: Gminnego Zakładu Gospodarki Komunalnej i Mieszkaniowej w Malborku
A5: Dział | B5: Rozdział | C5: Paragraf | D5: Treść | E5: planowane koszty | F5: pozycje kosztów | G5: wartość
A28: 400 | D28: Wytwarzanie i zaopatrywanie w energię elektryczną, gaz i wodę | E28: =SUM(E29+E36) -> 264150 | G28: =SUM(G29+G36) -> 264150
B29: 40001 | D29: Dostarczanie ciepła | E29: =SUM(E30:E35) -> 154000 | G29: =SUM(G30:G35) -> 154000
C30: 4210 | D30: Zakup materiałów i wyposażenia | E30: =SUM(G30) -> 140000 | F30: węgiel 70t x 2000,00 | G30: =70*2000 -> 140000
C31: 4260 | D31: Zakup energii | E31: =SUM(G31) -> 2000 | F31: energia elektryczna | G31: 2000
C32: 4270 | D32: Zakup usług remontowych | E32: =G32 -> 3000 | F32: usługi remontowe | G32: 3000
C33: 4300 | D33: Zakup usług pozostałych | E33: =SUM(G33) -> 3000 | F33: usługi pozostałe | G33: 3000
C34: 4390 | D34: Zakup usług obejmujących wykonanie ekspertyz, analiz i opinii | E34: =SUM(G34) -> 4000 | F34: przeglądy kotłowni | G34: 4000
C35: 4430 | D35: Różne opłaty i składki | E35: =SUM(G35) -> 2000 | F35: opłaty za emisję spalin | G35: 2000
B36: 40002 | D36: Dostarczanie wody | E36: =SUM(E37:E44) -> 110150 | G36: =SUM(G37:G44) -> 110150
C37: 4210 | D37: Zakup materiałów i wyposażenia | E37: =G37 -> 7000 | F37: materiały remontowe | G37: 7000
C38: 4260 | D38: Zakup energii | E38: =G38+G39 -> 77000 | F38: zakup wody | G38: 73000
F39: energia elektryczna | G39: 4000
C40: 4300 | D40: Zakup usług pozostałych | E40: =G40 -> 4000 | F40: usługi pozostałe | G40: 4000
C41: 4270 | D41: Zakup usług remontowych | E41: =G41 -> 5000 | F41: usługi remontowe | G41: 5000
C42: 4390 | D42: Zakup usług obejmujących wykonanie ekspertyz, analiz i opinii | E42: =G42+G43 -> 10000 | F42: badania okresowe wody SUW | G42: 9000
F43: przeglądy techniczne | G43: 1000
C44: 4430 | D44: Różne opłaty i składki | E44: =G44 -> 7150 | F44: opłata za pobór wód SUW | G44: 7150
A45: 700 | D45: Gospodarka mieszkaniowa | E45: =E46 -> 84000 | G45: =G46 -> 84000
B46: 70007 | D46: Gospodarowanie mieszkaniowym zasobem gminy | E46: =SUM(E47:E54) -> 84000 | G46: =SUM(G47:G55) -> 84000
C47: 4210 | D47: Zakup materiałów i wyposażenia | E47: =G47 -> 40000 | F47: materiały remont., malarskie, budowlane | G47: 40000
C48: 4260 | D48: Zakup energii | E48: =G48 -> 1000 | F48: energia elektryczna | G48: 1000
C49: 4270 | D49: Zakup usług remontowych | E49: =G49 -> 20000 | F49: usługi remontowe | G49: 20000
C50: 4300 | D50: Zakup usług pozostałych | E50: =G50 -> 4000 | F50: usługi transportowe, pozostałe | G50: 4000
C51: 4390 | D51: Zakup usług obejmujących wykonanie ekspertyz, analiz i opinii | E51: =G51+G52+G53 -> 10000 | F51: przeglądy inst.elektrycznych | G51: 3000
F52: przeglądy kominiarskie | G52: 4000
F53: przeglądy budowlane | G53: 3000
C54: 4430 | D54: Różne opłaty i składki | E54: =G54 -> 9000 | F54: koszty zarządu wspólnotami mieszkan. | G54: 9000
C55: 6070 | D55: Wydatki inwestycyjne samorządowych zakładów budżetowych | E55: =G55 -> 0 | F55: modernizacja lokalu mieszkalnego w Lasowicach Wlk.nr 120J
A56: 900 | D56: Gospodarka komunalna i ochrona środowiska | E56: =E57+E67+E91 -> 1807450 | G56: =G57+G67+G91 -> 1807450
B57: 90001 | D57: Gospodarka ściekowa i ochrona wód | E57: =SUM(E58:E66) -> 464000 | G57: =SUM(G58:G66) -> 464000
C58: 4210 | D58: Zakup materiałów i wyposażenia | E58: =G58 -> 5000 | F58: materiały remontowe | G58: 5000
C59: 4260 | D59: Zakup energii | E59: =G59 -> 50000 | F59: energia elektryczna | G59: 50000
C60: 4270 | D60: Zakup usług remontowych | E60: =G60 -> 5000 | F60: usługi remontowe | G60: 5000
C61: 4300 | D61: Zakup usług pozostałych | E61: =G61+G62+G63 -> 392000 | F61: odprowadzanie ścieków do oczyszczalni 40.000m3 x 5,5 | G61: =40000*5.5 -> 220000
F62: odbiór ścieków z szamb 17.222 m3 | G62: 170000
F63: usługi transpor., roboty ziemne | G63: 2000
C64: 4390 | D64: Zakup usług obejmujących wykonanie ekspertyz, analiz i opinii | E64: =G64+G65 -> 7000 | F64: przeglądy techniczne | G64: 1000
F65: badania ścieków | G65: 6000
C66: 4430 | D66: Różne opłaty i składki | E66: =G66 -> 5000 | F66: opłaty za ponadnormatywny zrzut ścieków, opłaty wodnoprawne | G66: 5000
B67: 90017 | D67: Zakłady Gospodarki komunalnej | E67: =SUM(E68:E90) -> 1128450 | G67: =SUM(G68:G90) -> 1128450
C68: 3020 | D68: Wydatki osobowe niezaliczone do wynagrodzeń | E68: =G68 -> 12000 | F68: bhp: odzież ochronna, robocza i ekwiwalent | G68: 12000
C69: 4010 | D69: Wynagrodzenia osobowe pracowników | E69: =G69 -> 750000 | F69: Wynagrodzenia osobowe pracowników 11 os. X 12 m-cy | G69: 750000
C70: 4040 | D70: Dodatkowe wynagrodzenia roczne | E70: =G70 -> 62000 | F70: Dodatkowe wynagrodzenia roczne | G70: 62000
C71: 4110 | D71: Składki na ubezpieczenia społeczne | E71: =G71 -> 140000 | F71: Składki na ubezpieczenia społeczne | G71: 140000
C72: 4120 | D72: Składki na Fundusz Pracy oraz Fundusz Solidarnościowy | E72: =G72 -> 18100 | F72: Składki na Fundusz Pracy oraz Fundusz Solidarnościowy | G72: 18100
C73: 4170 | D73: Umowa zlecenia | E73: =G73 -> 5000 | F73: Umowa zlecenia | G73: 5000
C74: 4210 | D74: Zakup materiałów i wyposażenia | E74: =G74+G75 -> 37000 | F74: Zakup materiałów biurowych wyposażenie | G74: 18000
F75: paliwo do samochodu ciężarowego | G75: 19000
C76: 4270 | D76: Zakup usług remontowych | E76: =G76 -> 4000 | F76: remonty | G76: 4000
C77: 4280 | D77: Badania pracowników | E77: =G77 -> 1000 | F77: badania pracowników | G77: 1000
C78: 4300 | D78: Zakup usług pozostałych | E78: =G78+G79+G80+G81+G82 -> 29850 | F78: Zakup usług pocztowych | G78: 6000
F79: usługi bankowe | G79: 2500
F80: inspektor ochrony danych osobowych | G80: 7350
F81: obsługa programów komputerowych | G81: 4000
F82: obsługa informatyczna sprzętu komputer. | G82: 10000
C83: 4360 | D83: Opłaty z tytułu zakupu usług telekomunikacyjnych | E83: =G83+G84 -> 3500 | F83: abonamenty telefoniczne | G83: 2650
F84: abonament internetowy | G84: 850
C85: 4410 | D85: Podróże służbowe krajowe | E85: =G85 -> 5000 | F85: podróże służbowe krajowe | G85: 5000
C86: 4430 | D86: Różne opłaty i składki | E86: =G86 -> 10000 | F86: ubezpieczenie mienia i oc | G86: 10000
C87: 4440 | D87: Odpisy na zakładowy fundusz świadczeń socjalnych | E87: =G87 -> 23000 | F87: Odpisy na zakładowy fundusz świadczeń socjalnych | G87: 23000
C88: 4610 | D88: Koszty postępowania sądowego i prokuratorskiego | E88: =G88 -> 15000 | F88: Koszty postępowania sądowego i prokuratorskiego | G88: 15000
C89: 4700 | D89: Szkolenia pracowników niebędących członkami korpusu służby cywilnej | E89: =G89 -> 2000 | F89: Szkolenia pracowników niebędących członkami korpusu służby cywilnej | G89: 2000
C90: 4710 | D90: Wpłaty na PPK finansowane przez podmiot zatrudniający | E90: =G90 -> 11000 | F90: Wpłaty na PPK finansowane przez podmiot zatrudniający 1,5% wynagrodzeń | G90: 11000
B91: 90095 | D91: Pozostała działalność | E91: =SUM(E92:E103) -> 215000 | G91: =SUM(G92:G103) -> 215000
C92: 4210 | D92: Zakup materiałów i wyposażenia | E92: =G92+G93+G94 -> 98000 | F92: zakup węgla 35t x 2.000,00 | G92: =35*2000 -> 70000
F93: środki czystości bud.przy Solskiego 1 | G93: 6000
F94: materiały remontowe | G94: 22000
C95: 4260 | D95: Zakup energii | E95: =G95+G96 -> 31000 | F95: energia elektryczna | G95: 29000
F96: zakup wody | G96: 2000
C97: 4270 | D97: Zakup usług remontowych | E97: =G97 -> 2000 | F97: remonty | G97: 2000
C98: 4300 | D98: Zakup usług pozostałych | E98: =G98+G99+G100 -> 49500 | F98: odbiór ścieków | G98: 3000
F99: inne usługi | G99: 37500
F100: wywóz śmieci | G100: 9000
C101: 4390 | D101: Zakup usług obejmujących wykonanie ekspertyz, analiz i opinii | E101: =G101 -> 3000 | F101: przeglądy techniczne | G101: 3000
C102: 4430 | D102: Różne opłaty i składki | E102: =G102 -> 1500 | F102: emisja spalin | G102: 1500
C103: 4480 | D103: Podatek od nieruchomości | E103: =G103 -> 30000 | F103: podatek od nieruchomości | G103: 30000
D104: Stan środków obrotowych na koniec roku 2023
D105: OGÓŁEM KOSZTY | E105: =E28+E45+E56 -> 2155600 | G105: =G28+G45+G56 -> 2155600
